BEGIN:VCALENDAR
PRODID:-//eluceo/ical//2.0/EN
VERSION:2.0
CALSCALE:GREGORIAN
BEGIN:VEVENT
UID:2d4d244679fa4bb69320425dcc8d2613
DTSTAMP:20260419T132827Z
SUMMARY:12:30p Daled Promotion Celebration-AJCC Preschool
DESCRIPTION:The Knoxville Jewish Alliance\nThe Knoxville Jewish Alliance Ca
 lendar\nhttps://jewishknoxville.org/calendar/1230p-daled-promotion-celebra
 tion-ajcc-preschool\n\n12:30p Daled Promotion Celebration-AJCC Preschool
DTSTART;TZID=America/New_York:20170518T123000
DTEND;TZID=America/New_York:20170518T133000
END:VEVENT
END:VCALENDAR
