BEGIN:VCALENDAR
PRODID:-//eluceo/ical//2.0/EN
VERSION:2.0
CALSCALE:GREGORIAN
BEGIN:VEVENT
UID:ea09a6ca450c625206d3f0102a84677d
DTSTAMP:20260419T225617Z
SUMMARY:12:30pm Confirmation Class - TBE
DESCRIPTION:The Knoxville Jewish Alliance\nThe Knoxville Jewish Alliance Ca
 lendar\nhttps://jewishknoxville.org/calendar/1230pm-confirmation-class-tbe
 -383134\n\n12:30pm Confirmation Class
DTSTART;TZID=America/New_York:20210815T123000
DTEND;TZID=America/New_York:20210815T133000
END:VEVENT
END:VCALENDAR
