BEGIN:VCALENDAR
PRODID:-//eluceo/ical//2.0/EN
VERSION:2.0
CALSCALE:GREGORIAN
BEGIN:VEVENT
UID:1354ee305fe633ed3b99bbd275d7e282
DTSTAMP:20260419T152253Z
SUMMARY:12:30pm Confirmation Class - TBE
DESCRIPTION:The Knoxville Jewish Alliance\nThe Knoxville Jewish Alliance Ca
 lendar\nhttps://jewishknoxville.org/calendar/1230pm-confirmation-class-tbe
 -383151\n\n12:30pm Confirmation Class
DTSTART;TZID=America/New_York:20220206T123000
DTEND;TZID=America/New_York:20220206T133000
END:VEVENT
END:VCALENDAR
