BEGIN:VCALENDAR
PRODID:-//eluceo/ical//2.0/EN
VERSION:2.0
CALSCALE:GREGORIAN
BEGIN:VEVENT
UID:b63078fdcecc498349207d3100ecad5e
DTSTAMP:20260424T070454Z
SUMMARY:12:30pm Rosh Hashana luncheon followed by Tashlich Service-TBE
DESCRIPTION:The Knoxville Jewish Alliance\nThe Knoxville Jewish Alliance Ca
 lendar\nhttps://jewishknoxville.org/calendar/1230pm-rosh-hashana-luncheon-
 followed-by-tashlich-service-tbe-241746\n\nRosh Hashana luncheon followed 
 by Tashlich Service
DTSTART;TZID=America/New_York:20170921T123000
DTEND;TZID=America/New_York:20170921T133000
END:VEVENT
END:VCALENDAR
