BEGIN:VCALENDAR
PRODID:-//eluceo/ical//2.0/EN
VERSION:2.0
CALSCALE:GREGORIAN
BEGIN:VEVENT
UID:7137d11880fad1446914a034150bed62
DTSTAMP:20260423T233652Z
SUMMARY:12noon Confirmation Class - TBE
DESCRIPTION:The Knoxville Jewish Alliance\nThe Knoxville Jewish Alliance Ca
 lendar\nhttps://jewishknoxville.org/calendar/12noon-confirmation-class-tbe
 1-355547\n\n12noon Confirmation Class - TBE
DTSTART;TZID=America/New_York:20200823T120000
DTEND;TZID=America/New_York:20200823T133000
END:VEVENT
END:VCALENDAR
