BEGIN:VCALENDAR
PRODID:-//eluceo/ical//2.0/EN
VERSION:2.0
CALSCALE:GREGORIAN
BEGIN:VEVENT
UID:2d2e6c4556eaaab3be8bc8c05777d8e0
DTSTAMP:20260423T052303Z
SUMMARY:12noon Confirmation Class - TBE
DESCRIPTION:The Knoxville Jewish Alliance\nThe Knoxville Jewish Alliance Ca
 lendar\nhttps://jewishknoxville.org/calendar/12noon-confirmation-class-tbe
 5-355553\n\n12noon Confirmation Class - TBE
DTSTART;TZID=America/New_York:20201025T120000
DTEND;TZID=America/New_York:20201025T133000
END:VEVENT
END:VCALENDAR
