BEGIN:VCALENDAR
PRODID:-//eluceo/ical//2.0/EN
VERSION:2.0
CALSCALE:GREGORIAN
BEGIN:VEVENT
UID:a7e53eaf9ed4eed751ab679d064e2af6
DTSTAMP:20260423T171637Z
SUMMARY:12noon Confirmation Class - TBE
DESCRIPTION:The Knoxville Jewish Alliance\nThe Knoxville Jewish Alliance Ca
 lendar\nhttps://jewishknoxville.org/calendar/12noon-confirmation-class-tbe
 8-355557\n\n12noon Confirmation Class - TBE
DTSTART;TZID=America/New_York:20201206T120000
DTEND;TZID=America/New_York:20201206T133000
END:VEVENT
END:VCALENDAR
