BEGIN:VCALENDAR
PRODID:-//eluceo/ical//2.0/EN
VERSION:2.0
CALSCALE:GREGORIAN
BEGIN:VEVENT
UID:063641e7c0b35f2fb9645440459d5ffe
DTSTAMP:20260424T191719Z
SUMMARY:12noon Executive Meeting - TBE
DESCRIPTION:The Knoxville Jewish Alliance\nThe Knoxville Jewish Alliance Ca
 lendar\nhttps://jewishknoxville.org/calendar/12noon-executive-meeting-tbe-
 304608\n\nExecutive Meeting
DTSTART;TZID=America/New_York:20190403T120000
DTEND;TZID=America/New_York:20190403T130000
END:VEVENT
END:VCALENDAR
