BEGIN:VCALENDAR
PRODID:-//eluceo/ical//2.0/EN
VERSION:2.0
CALSCALE:GREGORIAN
BEGIN:VEVENT
UID:d3ddf3ccb4ff5e992a616317fdf4ca9c
DTSTAMP:20260423T181801Z
SUMMARY:12p Miniclass Genizah - What? Why? How? HA
DESCRIPTION:The Knoxville Jewish Alliance\nThe Knoxville Jewish Alliance Ca
 lendar\nhttps://jewishknoxville.org/calendar/12p-miniclass-genizah-ha-3003
 46\n\nObe time class to discuss Genizah.
DTSTART;TZID=America/New_York:20190302T120000
DTEND;TZID=America/New_York:20190302T130000
END:VEVENT
END:VCALENDAR
