BEGIN:VCALENDAR
PRODID:-//eluceo/ical//2.0/EN
VERSION:2.0
CALSCALE:GREGORIAN
BEGIN:VEVENT
UID:ba00543dcf0382b4bf52c97beae8c672
DTSTAMP:20260419T123540Z
SUMMARY:12pm- Annual Membership Event-  Heska Amuna Women's League
DESCRIPTION:The Knoxville Jewish Alliance\nThe Knoxville Jewish Alliance Ca
 lendar\nhttps://jewishknoxville.org/calendar/12pm-heska-amuna-womens-leagu
 e-annual-membership-event--brunch--chesapeak\n\nThis fun event will be a B
 runch held at Chesapeake's @ Parkside Dr.\n\nContact Angela Brunelle to RS
 VP/details
DTSTART;TZID=America/New_York:20251019T120000
DTEND;TZID=America/New_York:20251019T150000
END:VEVENT
END:VCALENDAR
