BEGIN:VCALENDAR
PRODID:-//eluceo/ical//2.0/EN
VERSION:2.0
CALSCALE:GREGORIAN
BEGIN:VEVENT
UID:3ec649d7b3c009975af1cfdae1cebfe1
DTSTAMP:20260423T205133Z
SUMMARY:1:30 -3:30p MCDC Open House - AJCC Gym
DESCRIPTION:The Knoxville Jewish Alliance\nThe Knoxville Jewish Alliance Ca
 lendar\nhttps://jewishknoxville.org/calendar/130-330-pm---mcdc-open-house-
 --ajcc-gym-180303\n\nMCDC Open House
DTSTART;TZID=America/New_York:20160306T133000
DTEND;TZID=America/New_York:20160306T153000
END:VEVENT
END:VCALENDAR
