BEGIN:VCALENDAR
PRODID:-//eluceo/ical//2.0/EN
VERSION:2.0
CALSCALE:GREGORIAN
BEGIN:VEVENT
UID:8981099c1f59f91e820e7458f258cacb
DTSTAMP:20260425T162303Z
SUMMARY:1p HAWL Lunch & Learn-HA
DESCRIPTION:The Knoxville Jewish Alliance\nThe Knoxville Jewish Alliance Ca
 lendar\nhttps://jewishknoxville.org/calendar/1p-hawl-lunch-learn-ha-372428
 \n\nIn the Image of God: Jewish Teachings on Equity - From Moses to MLK\n\
 nSee Nu News and HAWL emails for link.
DTSTART;TZID=America/New_York:20210117T130000
DTEND;TZID=America/New_York:20210117T143000
END:VEVENT
END:VCALENDAR
