BEGIN:VCALENDAR
PRODID:-//eluceo/ical//2.0/EN
VERSION:2.0
CALSCALE:GREGORIAN
BEGIN:VEVENT
UID:291fb6112ead05cb3ab515956153dea5
DTSTAMP:20260421T120617Z
SUMMARY:1p Sisterhood MahJong Learn/Play - TBE
DESCRIPTION:The Knoxville Jewish Alliance\nThe Knoxville Jewish Alliance Ca
 lendar\nhttps://jewishknoxville.org/calendar/1p-sisterhood-mahjong-learnpl
 ay-tbe\n\nSisterhood MahJong Learn/Play\n\nFREE EVENT\n\nPLEASE RSVP ON TB
 E WEBSITE
DTSTART;TZID=America/New_York:20250622T130000
DTEND;TZID=America/New_York:20250622T150000
END:VEVENT
END:VCALENDAR
