BEGIN:VCALENDAR
PRODID:-//eluceo/ical//2.0/EN
VERSION:2.0
CALSCALE:GREGORIAN
BEGIN:VEVENT
UID:759a9da4445407e25126a8f4647f4820
DTSTAMP:20260423T052331Z
SUMMARY:1pm-Marian Jay's Unveiling-HAS
DESCRIPTION:The Knoxville Jewish Alliance\nThe Knoxville Jewish Alliance Ca
 lendar\nhttps://jewishknoxville.org/calendar/1pm-marian-jays-unveiling-has
 \n\nNew Jewish Cemetery
DTSTART;TZID=America/New_York:20250914T130000
DTEND;TZID=America/New_York:20250914T133000
END:VEVENT
END:VCALENDAR
