BEGIN:VCALENDAR
PRODID:-//eluceo/ical//2.0/EN
VERSION:2.0
CALSCALE:GREGORIAN
BEGIN:VEVENT
UID:0a6d34ab5a5b6f080ebd5a91ba84442a
DTSTAMP:20260422T210305Z
SUMMARY:1pm Torah Chat w/Rabbi Boxt - TBE
DESCRIPTION:The Knoxville Jewish Alliance\nThe Knoxville Jewish Alliance Ca
 lendar\nhttps://jewishknoxville.org/calendar/1pm-torah-chat-wrabbi-boxt-tb
 e-358185\n\nTorah Live w/Rabbi Boxt
DTSTART;TZID=America/New_York:20201124T130000
DTEND;TZID=America/New_York:20201124T133000
END:VEVENT
END:VCALENDAR
