BEGIN:VCALENDAR
PRODID:-//eluceo/ical//2.0/EN
VERSION:2.0
CALSCALE:GREGORIAN
BEGIN:VEVENT
UID:2e9516c2838b90cf5b4d092ac7b5a9e4
DTSTAMP:20260422T182943Z
SUMMARY:2 or 4p Mega Challah Bake for Women-Chabad
DESCRIPTION:The Knoxville Jewish Alliance\nThe Knoxville Jewish Alliance Ca
 lendar\nhttps://jewishknoxville.org/calendar/2-or-4p-maga-challah-bake-for
 -women-chabad\n\nJanuary 24\, \n\n(put in the afternoon either 2 or 4\, wi
 ll let u know exact time when we know)\n\nMega Challah Bake for women – 
 stay tuned for details.\n\n 
DTSTART;TZID=America/New_York:20160124T140000
DTEND;TZID=America/New_York:20160124T160000
END:VEVENT
END:VCALENDAR
