BEGIN:VCALENDAR
PRODID:-//eluceo/ical//2.0/EN
VERSION:2.0
CALSCALE:GREGORIAN
BEGIN:VEVENT
UID:804eed4bc93cd8ed97042f6670b00ad8
DTSTAMP:20260423T070224Z
SUMMARY:2:00 - 3:00 p.m. - KJA Annual Meeting - AJCC Orwitz Room
DESCRIPTION:The Knoxville Jewish Alliance\nThe Knoxville Jewish Alliance Ca
 lendar\nhttps://jewishknoxville.org/calendar/200-300-pm--kja-annual-meetin
 g---ajcc-orwitz-room-212967\n\nKJA Annual Meeting\n\nOpen to all
DTSTART;TZID=America/New_York:20161211T140000
DTEND;TZID=America/New_York:20161211T150000
END:VEVENT
END:VCALENDAR
