BEGIN:VCALENDAR
PRODID:-//eluceo/ical//2.0/EN
VERSION:2.0
CALSCALE:GREGORIAN
BEGIN:VEVENT
UID:2c3c9b707ac68274cb694147630af6ff
DTSTAMP:20260424T073026Z
SUMMARY:2:00-4:00 p.m. - Milton Collins Exhibit  Reception-AJCC Schwarzbart
  Gallery
DESCRIPTION:The Knoxville Jewish Alliance\nThe Knoxville Jewish Alliance Ca
 lendar\nhttps://jewishknoxville.org/calendar/200-400-pm--milton-collins-ex
 hibit-opening-reception---ajcc-schwarzbart-gallery-239446\n\nMilton Collin
 s Exhibit Opening Reception\n\nAJCC Schwarzbart Gallery\n\nRefreshments - 
 Orwitz Room
DTSTART;TZID=America/New_York:20170917T140000
DTEND;TZID=America/New_York:20170917T160000
END:VEVENT
END:VCALENDAR
