BEGIN:VCALENDAR
PRODID:-//eluceo/ical//2.0/EN
VERSION:2.0
CALSCALE:GREGORIAN
BEGIN:VEVENT
UID:5d148668ee2bd1123073961763922b97
DTSTAMP:20260419T170128Z
SUMMARY:2:00-4:00pm DIY Menorah Hooray for Clay
DESCRIPTION:The Knoxville Jewish Alliance\nThe Knoxville Jewish Alliance Ca
 lendar\nhttps://jewishknoxville.org/calendar/200-400pm-diy-menorah-h\n\n
DTSTART;TZID=America/New_York:20171119T140000
DTEND;TZID=America/New_York:20171119T160000
END:VEVENT
END:VCALENDAR
