BEGIN:VCALENDAR
PRODID:-//eluceo/ical//2.0/EN
VERSION:2.0
CALSCALE:GREGORIAN
BEGIN:VEVENT
UID:ab732c2f6e96cd77db664abab48ac8c0
DTSTAMP:20260425T191737Z
SUMMARY:2:00 - 5:00 p.m. - Reserved for Private Meeting - AJCC  Orwitz Rm 2
 17
DESCRIPTION:The Knoxville Jewish Alliance\nThe Knoxville Jewish Alliance Ca
 lendar\nhttps://jewishknoxville.org/calendar/200-500-pm--reserved-for-priv
 ate-meeting---ajcc--orwitz-rm-217-332443\n\n2:00 - 5:00 p.m. - Reserved fo
 r Private Meeting - AJCC  Orwitz Rm 217
DTSTART;TZID=America/New_York:20191122T140000
DTEND;TZID=America/New_York:20191122T170000
END:VEVENT
END:VCALENDAR
