BEGIN:VCALENDAR
PRODID:-//eluceo/ical//2.0/EN
VERSION:2.0
CALSCALE:GREGORIAN
BEGIN:VEVENT
UID:7e55a1f82588165e26e5dce0fbd3e808
DTSTAMP:20260423T122954Z
SUMMARY:2:00 p.m. - Archives Intervies - AJCC Orwitz Room
DESCRIPTION:The Knoxville Jewish Alliance\nThe Knoxville Jewish Alliance Ca
 lendar\nhttps://jewishknoxville.org/calendar/200-pm-archives-intervies--aj
 cc-orwitz-room-212966\n\nArchives Interview
DTSTART;TZID=America/New_York:20161114T140000
DTEND;TZID=America/New_York:20161114T160000
END:VEVENT
END:VCALENDAR
