BEGIN:VCALENDAR
PRODID:-//eluceo/ical//2.0/EN
VERSION:2.0
CALSCALE:GREGORIAN
BEGIN:VEVENT
UID:28f0ce91b76fc7c8beb5f6e3a54d4206
DTSTAMP:20260424T141211Z
SUMMARY:2:00 p.m. - BBG Elections - AJCC BBYO Room
DESCRIPTION:The Knoxville Jewish Alliance\nThe Knoxville Jewish Alliance Ca
 lendar\nhttps://jewishknoxville.org/calendar/200-pm-bbg-elections--ajcc-bb
 yo-room-232965\n\nBBG Elections
DTSTART;TZID=America/New_York:20170806T140000
DTEND;TZID=America/New_York:20170806T160000
END:VEVENT
END:VCALENDAR
