BEGIN:VCALENDAR
PRODID:-//eluceo/ical//2.0/EN
VERSION:2.0
CALSCALE:GREGORIAN
BEGIN:VEVENT
UID:1e77b1018d28b9fe8bf93254411f9954
DTSTAMP:20260420T082726Z
SUMMARY:2:00 p.m. - Chabad Torah Event - AJCC Caller Auditorium
DESCRIPTION:The Knoxville Jewish Alliance\nThe Knoxville Jewish Alliance Ca
 lendar\nhttps://jewishknoxville.org/calendar/200-pm-chabad-torah-event--aj
 cc-caller-auditorium-278358\n\nCHABAD TORAH EVENT\n\nSunday August 19  
  \n\n 2:00 p.m.\n\nAJCC Caller Auditorium\n\nEvent open to all\n\nWitnes
 s scribe write final Torah words\n\nLiving Legacy Workshop - Adults & Chil
 dren\n\nTorah Procession - live music/dancing\n\nDinner\, Music\, Dancing
 \, Bounce House\n\n 
DTSTART;TZID=America/New_York:20180819T140000
DTEND;TZID=America/New_York:20180819T160000
END:VEVENT
END:VCALENDAR
