BEGIN:VCALENDAR
PRODID:-//eluceo/ical//2.0/EN
VERSION:2.0
CALSCALE:GREGORIAN
BEGIN:VEVENT
UID:4c91b3af6bf5f0489cc064c06399e430
DTSTAMP:20260419T164102Z
SUMMARY:2:00 p.m. -  Hadassah program - FACE THE HATE  - Zoom
DESCRIPTION:The Knoxville Jewish Alliance\nThe Knoxville Jewish Alliance Ca
 lendar\nhttps://jewishknoxville.org/calendar/200-pm-hadassah-program---fac
 e-the-hate----zoom\n\nCombatting anti-semitism featuring Elana Heideman\, 
 Ph.D.  Elana studied under Elie Wiesel at Boston University.
DTSTART;TZID=America/New_York:20201018T140000
DTEND;TZID=America/New_York:20201018T160000
END:VEVENT
END:VCALENDAR
