BEGIN:VCALENDAR
PRODID:-//eluceo/ical//2.0/EN
VERSION:2.0
CALSCALE:GREGORIAN
BEGIN:VEVENT
UID:8abfdd05175809f0f13d62064021ef38
DTSTAMP:20260421T184935Z
SUMMARY:2:00 - 4:00 PM - BBYO Parent Meeting - Orwitz Room 217
DESCRIPTION:The Knoxville Jewish Alliance\nThe Knoxville Jewish Alliance Ca
 lendar\nhttps://jewishknoxville.org/calendar/230-400-pm--bbyo-parent-meeti
 ng---orwitz-room-217-323596\n\n2:00 - 4:00 PM - BBYO Parent Meeting - Orwi
 tz Room 217
DTSTART;TZID=America/New_York:20190901T140000
DTEND;TZID=America/New_York:20190901T160000
END:VEVENT
END:VCALENDAR
