BEGIN:VCALENDAR
PRODID:-//eluceo/ical//2.0/EN
VERSION:2.0
CALSCALE:GREGORIAN
BEGIN:VEVENT
UID:aac2a031584e583c9de155a8b739db97
DTSTAMP:20260423T104428Z
SUMMARY:2:30pm Afternoon Service - TBE
DESCRIPTION:The Knoxville Jewish Alliance\nThe Knoxville Jewish Alliance Ca
 lendar\nhttps://jewishknoxville.org/calendar/230pm-afternoon-service-tbe-3
 18380\n\nAfternoon Service
DTSTART;TZID=America/New_York:20191009T143000
DTEND;TZID=America/New_York:20191009T160000
END:VEVENT
END:VCALENDAR
