BEGIN:VCALENDAR
PRODID:-//eluceo/ical//2.0/EN
VERSION:2.0
CALSCALE:GREGORIAN
BEGIN:VEVENT
UID:648db377000e87f2980ead48b67f358c
DTSTAMP:20260423T052011Z
SUMMARY:2p HAWL Mahjong-HAS
DESCRIPTION:The Knoxville Jewish Alliance\nThe Knoxville Jewish Alliance Ca
 lendar\nhttps://jewishknoxville.org/calendar/2p-hawl-mahjong-has\n\nOpen M
 ahjong - Fun and Friends!\nProvided by HAWL\, but open to all\nQuestions? 
 Text Peggy Littmann 865-776-1013\nThursdays\, 2:00 pm!
DTSTART;TZID=America/New_York:20250703T140000
DTEND;TZID=America/New_York:20250703T160000
END:VEVENT
END:VCALENDAR
