BEGIN:VCALENDAR
PRODID:-//eluceo/ical//2.0/EN
VERSION:2.0
CALSCALE:GREGORIAN
BEGIN:VEVENT
UID:79c5c9b482cb48088c28900d08925028
DTSTAMP:20260426T012755Z
SUMMARY:2p-HAWL Open Mahjong-HAS
DESCRIPTION:The Knoxville Jewish Alliance\nThe Knoxville Jewish Alliance Ca
 lendar\nhttps://jewishknoxville.org/calendar/2p-hawl-open-mahjong-has\n\nO
 pen to everyone. Free for HAWL members. One-time fee of $5 for non-members
 .
DTSTART;TZID=America/New_York:20260108T140000
DTEND;TZID=America/New_York:20260108T160000
END:VEVENT
END:VCALENDAR
