BEGIN:VCALENDAR
PRODID:-//eluceo/ical//2.0/EN
VERSION:2.0
CALSCALE:GREGORIAN
BEGIN:VEVENT
UID:7333ec5524a10974153a99d0a661f07a
DTSTAMP:20260425T174353Z
SUMMARY:2p Mincha (Minyan) & Talmud Chat with Rabbi-HA
DESCRIPTION:The Knoxville Jewish Alliance\nThe Knoxville Jewish Alliance Ca
 lendar\nhttps://jewishknoxville.org/calendar/2p-mincha-with-rabbi-ha-36764
 4\n\nJoin us for Mincha with Rabbi Ferency. To receive the zoom link\, se
 e Nu News\, KJA Newsletter\, or contact our office 865-522-0701.
DTSTART;TZID=America/New_York:20201231T140000
DTEND;TZID=America/New_York:20201231T144500
END:VEVENT
END:VCALENDAR
