BEGIN:VCALENDAR
PRODID:-//eluceo/ical//2.0/EN
VERSION:2.0
CALSCALE:GREGORIAN
BEGIN:VEVENT
UID:38439a6068db5efb2c2f985294a6a685
DTSTAMP:20260421T232246Z
SUMMARY:2p Speaker - Robert Heller-HA
DESCRIPTION:The Knoxville Jewish Alliance\nThe Knoxville Jewish Alliance Ca
 lendar\nhttps://jewishknoxville.org/calendar/2p-speaker-robert-heller-ha-3
 36351\n\nJoin us for Robert Heller's thought-provoking topic\, in Heksa Am
 una's library.
DTSTART;TZID=America/New_York:20200112T140000
DTEND;TZID=America/New_York:20200112T160000
END:VEVENT
END:VCALENDAR
