BEGIN:VCALENDAR
PRODID:-//eluceo/ical//2.0/EN
VERSION:2.0
CALSCALE:GREGORIAN
BEGIN:VEVENT
UID:30cd0e37773e3f986e9aae3a6f49a11f
DTSTAMP:20260423T140644Z
SUMMARY:2pm-Unveiling Jean Hiller Millis & Dr. Frederick Barry Millis-TBE
DESCRIPTION:The Knoxville Jewish Alliance\nThe Knoxville Jewish Alliance Ca
 lendar\nhttps://jewishknoxville.org/calendar/2pm-unveiling-jean-hiller-mil
 lis-dr-frederick-barry-millis-tbe-374377\n\n2pm-Unveiling Jean Hiller Mill
 is & Dr. Frederick Barry Millis-TBE
DTSTART;TZID=America/New_York:20210411T140000
DTEND;TZID=America/New_York:20210411T150000
END:VEVENT
END:VCALENDAR
