BEGIN:VCALENDAR
PRODID:-//eluceo/ical//2.0/EN
VERSION:2.0
CALSCALE:GREGORIAN
BEGIN:VEVENT
UID:07f13061a2ed4932b272307cd87751f2
DTSTAMP:20260426T044240Z
SUMMARY:3-5p TOTS Basketball Year-End Party-AJCC Gym
DESCRIPTION:The Knoxville Jewish Alliance\nThe Knoxville Jewish Alliance Ca
 lendar\nhttps://jewishknoxville.org/calendar/3-5p-private-party-ajcc-gym51
 5\n\n3-5p TOTS BASKETBALL End of the Year Party-AJCC Gym\n\n \n\nHannah B
 lair\, TOT Director\, Knoxville Area\n\nHannah@teamsoftomorrow.com\n\n865
 .696.6686
DTSTART;TZID=America/New_York:20160515T150000
DTEND;TZID=America/New_York:20160515T170000
END:VEVENT
END:VCALENDAR
