BEGIN:VCALENDAR
PRODID:-//eluceo/ical//2.0/EN
VERSION:2.0
CALSCALE:GREGORIAN
BEGIN:VEVENT
UID:c42658fb87d66fba304a734637b3b2f7
DTSTAMP:20260425T020413Z
SUMMARY:3:00 - 4:30 p.m. - PJ Library Tu B'shvat Scavenger Hunt - West Town
  Mall
DESCRIPTION:The Knoxville Jewish Alliance\nThe Knoxville Jewish Alliance Ca
 lendar\nhttps://jewishknoxville.org/calendar/300-430-pm--pj-library-tu-bsh
 vat-scavenger-hunt---west-town-mall-258205\n\n2nd Annual Tu B'Shvat Scaven
 ger Hunt\n\nCheck in in front of Starbucks
DTSTART;TZID=America/New_York:20180128T150000
DTEND;TZID=America/New_York:20180128T163000
END:VEVENT
END:VCALENDAR
