BEGIN:VCALENDAR
PRODID:-//eluceo/ical//2.0/EN
VERSION:2.0
CALSCALE:GREGORIAN
BEGIN:VEVENT
UID:66c1bcec61365289b7351f8e8b61a3fd
DTSTAMP:20260423T021346Z
SUMMARY:3:00-4:30 p.m.-Tu B'shvat Scavenger Hunt-West Town Mall (Meet by Fo
 untain)
DESCRIPTION:The Knoxville Jewish Alliance\nThe Knoxville Jewish Alliance Ca
 lendar\nhttps://jewishknoxville.org/calendar/300-430-pm-tu-bshvat-scavenge
 r-hunt-west-town-mall-meet-by-fountain-219077\n\n
DTSTART;TZID=America/New_York:20170129T150000
DTEND;TZID=America/New_York:20170129T163000
END:VEVENT
END:VCALENDAR
