BEGIN:VCALENDAR
PRODID:-//eluceo/ical//2.0/EN
VERSION:2.0
CALSCALE:GREGORIAN
BEGIN:VEVENT
UID:cf83f3306b4a04a8fd534ffa4290f70d
DTSTAMP:20260423T041452Z
SUMMARY:3:00 -5:00 pm  Winter Festival and Hanukkah Party-  AJCC Caller Aud
 itorium
DESCRIPTION:The Knoxville Jewish Alliance\nThe Knoxville Jewish Alliance Ca
 lendar\nhttps://jewishknoxville.org/calendar/300-500-pm--chanukah---ajcc-c
 aller-auditorium-237329\n\nJoin us for a family friendly Winter Festival a
 nd Hanukkah Party!  This free event is open to the entire Knoxville Commu
 nity!\n\n \n\nHoliday fun includes doughnut decorating\, dreidel painting
 \, menorah making\, face painting\, and latke tasting!
DTSTART;TZID=America/New_York:20171210T150000
DTEND;TZID=America/New_York:20171210T170000
END:VEVENT
END:VCALENDAR
