BEGIN:VCALENDAR
PRODID:-//eluceo/ical//2.0/EN
VERSION:2.0
CALSCALE:GREGORIAN
BEGIN:VEVENT
UID:50eeeef4c202f1c8a41b24d6ff35f67e
DTSTAMP:20260423T070112Z
SUMMARY:3:00 - 5:00 PM - Hadassah presents Membership Kickoff
DESCRIPTION:The Knoxville Jewish Alliance\nThe Knoxville Jewish Alliance Ca
 lendar\nhttps://jewishknoxville.org/calendar/300-500-pm--hadassah-presents
 membership-kickoff\n\nMembership Kickoff
DTSTART;TZID=America/New_York:20250824T150000
DTEND;TZID=America/New_York:20250824T170000
END:VEVENT
END:VCALENDAR
