BEGIN:VCALENDAR
PRODID:-//eluceo/ical//2.0/EN
VERSION:2.0
CALSCALE:GREGORIAN
BEGIN:VEVENT
UID:f16743b611f81e74e4d613c2fd207901
DTSTAMP:20260424T124736Z
SUMMARY:1:00 - 5:00 p.m. - TOTS - AJCC Gym
DESCRIPTION:The Knoxville Jewish Alliance\nThe Knoxville Jewish Alliance Ca
 lendar\nhttps://jewishknoxville.org/calendar/300-500-pm--tots---ajcc-gym2-
 202195\n\nTOTS Program
DTSTART;TZID=America/New_York:20170521T130000
DTEND;TZID=America/New_York:20170521T170000
END:VEVENT
END:VCALENDAR
