BEGIN:VCALENDAR
PRODID:-//eluceo/ical//2.0/EN
VERSION:2.0
CALSCALE:GREGORIAN
BEGIN:VEVENT
UID:b1c709aae383bfb5bbfc286d11f07edd
DTSTAMP:20260422T090007Z
SUMMARY:3-6p Lights & L'Chaim-HA
DESCRIPTION:The Knoxville Jewish Alliance\nThe Knoxville Jewish Alliance Ca
 lendar\nhttps://jewishknoxville.org/calendar/300-lights-lchaim-ha-303389\n
 \nLights & L'Chaim Concert and Nosh.  See www.HeskaAmuna.org for details 
 and to purchase tickets.
DTSTART;TZID=America/New_York:20191215T150000
DTEND;TZID=America/New_York:20191215T190000
END:VEVENT
END:VCALENDAR
