BEGIN:VCALENDAR
PRODID:-//eluceo/ical//2.0/EN
VERSION:2.0
CALSCALE:GREGORIAN
BEGIN:VEVENT
UID:5cce2ed792d359405edc48b0d3a5df94
DTSTAMP:20260425T151706Z
SUMMARY:3:00 p.m. - AJCC Preschool Closes for Winter Break (no aftercare)
DESCRIPTION:The Knoxville Jewish Alliance\nThe Knoxville Jewish Alliance Ca
 lendar\nhttps://jewishknoxville.org/calendar/300-pm-ajcc-preschool-closes-
 for-winter-break-no-aftercare-279206\n\nAJCC Preschool closes early for Wi
 nter Break\n\nNo aftercare
DTSTART;TZID=America/New_York:20181221T150000
DTEND;TZID=America/New_York:20181221T150000
END:VEVENT
END:VCALENDAR
