BEGIN:VCALENDAR
PRODID:-//eluceo/ical//2.0/EN
VERSION:2.0
CALSCALE:GREGORIAN
BEGIN:VEVENT
UID:89f093794e939e9d92303be84006ca46
DTSTAMP:20260424T141548Z
SUMMARY:3:00p-HAWL presents Marsha Raimi\, Southern Region President-HAS
DESCRIPTION:The Knoxville Jewish Alliance\nThe Knoxville Jewish Alliance Ca
 lendar\nhttps://jewishknoxville.org/calendar/300p-hawl-presents-marsha-rai
 mi-southern-region-president-has\n\nJoin this AWESOME Women's League prese
 ntation hosted by HAWL. Sisterhood's Southern Region President\, Marsha Ra
 imi will be the guest speaker.\n\nContact Angela Brunelle for more informa
 tion.
DTSTART;TZID=America/New_York:20251009T150000
DTEND;TZID=America/New_York:20251009T170000
END:VEVENT
END:VCALENDAR
