BEGIN:VCALENDAR
PRODID:-//eluceo/ical//2.0/EN
VERSION:2.0
CALSCALE:GREGORIAN
BEGIN:VEVENT
UID:b11bb6b5bf93db86f789461fbbb9a051
DTSTAMP:20260422T191904Z
SUMMARY:3:00pm-Reverse Tashlich-HAS
DESCRIPTION:The Knoxville Jewish Alliance\nThe Knoxville Jewish Alliance Ca
 lendar\nhttps://jewishknoxville.org/calendar/300pm-reverse-tashlich-has\n\
 nEveryone Is Invited by\nHeska Amuna Women's League (HAWL) to\nReverse Ta
 shlich \n      \n...which is the largest Jewish waterfront cleanup in
  the world! Last year\, more than 280 communities across 30 countries
  joined together\, removing more than 11 tons of debris from aquatic ec
 osystems. \n\nTurning ritual into action: Reverse Tashlich transforms t
 he traditional Tashlich\, where sins are cast into the water\, into an ac
 tive effort to remove "human sin" (pollution and debris) f...
DTSTART;TZID=America/New_York:20251005T150000
DTEND;TZID=America/New_York:20251005T190000
END:VEVENT
END:VCALENDAR
