BEGIN:VCALENDAR
PRODID:-//eluceo/ical//2.0/EN
VERSION:2.0
CALSCALE:GREGORIAN
BEGIN:VEVENT
UID:2b0544c754978ecc0742bfd709642e34
DTSTAMP:20260421T094306Z
SUMMARY:3:30 - 4:30 p.m. - East TN Civil Rights Working Group - AJCC Orwitz
  Room
DESCRIPTION:The Knoxville Jewish Alliance\nThe Knoxville Jewish Alliance Ca
 lendar\nhttps://jewishknoxville.org/calendar/330-430-pm--east-tn-civil-rig
 hts-working-group---ajcc-orwitz-room2-200802\n\nETCRWG is an informal netw
 orking group of community leaders\, civil rights advocates\, area law enfo
 rcement agency representatives\, and concerned citizens.  It was founded 
 on the principle that unity is our greatest asset in ensuring the civil ri
 ghts of all persons in East Tennessee.
DTSTART;TZID=America/New_York:20160726T153000
DTEND;TZID=America/New_York:20160726T163000
END:VEVENT
END:VCALENDAR
