BEGIN:VCALENDAR
PRODID:-//eluceo/ical//2.0/EN
VERSION:2.0
CALSCALE:GREGORIAN
BEGIN:VEVENT
UID:95f4d409bd098df2eb1d227fb5b71490
DTSTAMP:20260423T070124Z
SUMMARY:3:30-4:30 p.m. - East TN Civil Rights Working Group - AJCC Orwitz R
 oom
DESCRIPTION:The Knoxville Jewish Alliance\nThe Knoxville Jewish Alliance Ca
 lendar\nhttps://jewishknoxville.org/calendar/330-430-pm-east-tn-civil-righ
 ts-working-group--ajcc-orwitz-room-219233\n\nYou are invited to attend the
  East Tennessee Civil Rights Working Group (ETCRWG) monthly meeting.\n\nET
 CRWG\, is an informal networking group of community leaders\, civil rights
  advocates\, area law enforcement agency representatives\, and concerned c
 itizens.  It was founded on the principle that unity is our greatest asse
 t in ensuring the civil rights of all persons in East Tennessee.\n\nThe ET
 CRWG meetings are held on the fourth\, Tuesday of each month.  The meetin
 g location will alternate bet...
DTSTART;TZID=America/New_York:20170228T153000
DTEND;TZID=America/New_York:20170228T163000
END:VEVENT
END:VCALENDAR
