BEGIN:VCALENDAR
PRODID:-//eluceo/ical//2.0/EN
VERSION:2.0
CALSCALE:GREGORIAN
BEGIN:VEVENT
UID:87169ee26eea8fafc1fd6da446dbe097
DTSTAMP:20260422T183013Z
SUMMARY:3:30-4:30 p.m. - Introduction to Mindfulness - AJCC Orwitz Room
DESCRIPTION:The Knoxville Jewish Alliance\nThe Knoxville Jewish Alliance Ca
 lendar\nhttps://jewishknoxville.org/calendar/330-430-pm-introduction-to-mi
 ndfulness--ajcc-orwitz-room-197696\n\nIntroduction to Mindfulness:  Medit
 ation for Health\, Healing and Stress Reduction
DTSTART;TZID=America/New_York:20160925T153000
DTEND;TZID=America/New_York:20160925T163000
END:VEVENT
END:VCALENDAR
