BEGIN:VCALENDAR
PRODID:-//eluceo/ical//2.0/EN
VERSION:2.0
CALSCALE:GREGORIAN
BEGIN:VEVENT
UID:34b6f1997d051147321d018beb2339bf
DTSTAMP:20260422T024431Z
SUMMARY:4:00 - 5:00 p.m. - Little Hands Challah Bake - AJCC Caller Auditori
 um
DESCRIPTION:The Knoxville Jewish Alliance\nThe Knoxville Jewish Alliance Ca
 lendar\nhttps://jewishknoxville.org/calendar/330-500-pm--little-hands-chal
 lah-bake---ajcc-caller-auditorium-246501\n\nAJCC Preschool / PJ Library\n\
 nLittle Hands Challah Bake
DTSTART;TZID=America/New_York:20171102T160000
DTEND;TZID=America/New_York:20171102T170000
END:VEVENT
END:VCALENDAR
