BEGIN:VCALENDAR
PRODID:-//eluceo/ical//2.0/EN
VERSION:2.0
CALSCALE:GREGORIAN
BEGIN:VEVENT
UID:47ad0805eea8be5cfe7d8646cc7ed642
DTSTAMP:20260425T191657Z
SUMMARY:4:00 - 5:30 p.m. - Gathering for Good:  Welcome Wagon - AJCC Orwitz
  Room
DESCRIPTION:The Knoxville Jewish Alliance\nThe Knoxville Jewish Alliance Ca
 lendar\nhttps://jewishknoxville.org/calendar/400-530-pm--pj-library-grand-
 opening---ajcc-orwitz-room-231277\n\nGathering for Good:  Welcome Wagon\n
 \nand PJ Library Grand Opening
DTSTART;TZID=America/New_York:20170820T160000
DTEND;TZID=America/New_York:20170820T173000
END:VEVENT
END:VCALENDAR
