BEGIN:VCALENDAR
PRODID:-//eluceo/ical//2.0/EN
VERSION:2.0
CALSCALE:GREGORIAN
BEGIN:VEVENT
UID:ad7487b02b5183a484b62fe622c00498
DTSTAMP:20260419T220201Z
SUMMARY:4:00 - 6:30 pm - GKAISA Staff Computer Training - AJCC Orwitz Room 
 217
DESCRIPTION:The Knoxville Jewish Alliance\nThe Knoxville Jewish Alliance Ca
 lendar\nhttps://jewishknoxville.org/calendar/400-630-pm--gkaisa-staff-comp
 uter-training---ajcc-orwitz-room-217-300459\n\nSwim team staff training ev
 ent\n\n 
DTSTART;TZID=America/New_York:20190310T160000
DTEND;TZID=America/New_York:20190310T183000
END:VEVENT
END:VCALENDAR
