BEGIN:VCALENDAR
PRODID:-//eluceo/ical//2.0/EN
VERSION:2.0
CALSCALE:GREGORIAN
BEGIN:VEVENT
UID:b0c31d4c2b95aea00e9a7d3c8253984d
DTSTAMP:20260419T201056Z
SUMMARY:4:00 - 7:30 p.m. - Knoshville Cooking - AJCC Kitchen
DESCRIPTION:The Knoxville Jewish Alliance\nThe Knoxville Jewish Alliance Ca
 lendar\nhttps://jewishknoxville.org/calendar/400-730-pm--knoshville-cookin
 g---ajcc-kitchen-231170\n\nKnoshville Cooking with Shlomit Hava Bracy
DTSTART;TZID=America/New_York:20170525T160000
DTEND;TZID=America/New_York:20170525T193000
END:VEVENT
END:VCALENDAR
