BEGIN:VCALENDAR
PRODID:-//eluceo/ical//2.0/EN
VERSION:2.0
CALSCALE:GREGORIAN
BEGIN:VEVENT
UID:5e6f2612b6a539c7d06598263669ff50
DTSTAMP:20260424T220342Z
SUMMARY:4:00 - 9:00 p.m. - MCDC CPR & First Aid Training - AJCC Orwitz Room
DESCRIPTION:The Knoxville Jewish Alliance\nThe Knoxville Jewish Alliance Ca
 lendar\nhttps://jewishknoxville.org/calendar/400-900-pm--mcdc-cpr--first-a
 id-training---ajcc-orwitz-room-267830\n\nMCDC CPR & First Aid Training
DTSTART;TZID=America/New_York:20180523T160000
DTEND;TZID=America/New_York:20180523T210000
END:VEVENT
END:VCALENDAR
