BEGIN:VCALENDAR
PRODID:-//eluceo/ical//2.0/EN
VERSION:2.0
CALSCALE:GREGORIAN
BEGIN:VEVENT
UID:314e18c20d1f737831b0e0cd226ff3db
DTSTAMP:20260426T021520Z
SUMMARY:4:00p-6:30p Midweek Religious School- HA
DESCRIPTION:The Knoxville Jewish Alliance\nThe Knoxville Jewish Alliance Ca
 lendar\nhttps://jewishknoxville.org/calendar/400p-630p-midweek-religious-s
 chool--ha-1502809076\n\nMidweek religious school
DTSTART;TZID=America/New_York:20170823T160000
DTEND;TZID=America/New_York:20170823T183000
END:VEVENT
END:VCALENDAR
